BEGIN:VCALENDAR
VERSION:2.0
PRODID:-//wp-events-plugin.com//7.2.3.1//EN
TZID:Europe/Berlin
X-WR-TIMEZONE:Europe/Berlin
BEGIN:VEVENT
UID:1122@osterholz-bremen.de
DTSTART;TZID=Europe/Berlin:20260430T200000
DTEND;TZID=Europe/Berlin:20260430T200000
DTSTAMP:20260309T084640Z
URL:https://www.osterholz-bremen.de/veranstaltungen/tanz-in-den-mai-mit-de
 r-number-one-band/
SUMMARY:Tanz in den Mai mit der "Number One Band"
DESCRIPTION:[pdf-embedder url="https://www.osterholz-bremen.de/wp-content/u
 ploads/2026/03/20260430-Plakat-NumberOneBand.pdf" title="20260430 Plakat-N
 umberOneBand"]
CATEGORIES:Kultur &amp; Freizeit
LOCATION:Kultur Aula\, Ilse-Kaisen Str. 5\, 28327 Bremen\, Deutschland
X-APPLE-STRUCTURED-LOCATION;VALUE=URI;X-ADDRESS=Ilse-Kaisen Str. 5\, 28327 
 Bremen\, Deutschland;X-APPLE-RADIUS=100;X-TITLE=Kultur Aula:geo:0,0
END:VEVENT
BEGIN:VTIMEZONE
TZID:Europe/Berlin
X-LIC-LOCATION:Europe/Berlin
BEGIN:DAYLIGHT
DTSTART:20260329T030000
TZOFFSETFROM:+0100
TZOFFSETTO:+0200
TZNAME:CEST
END:DAYLIGHT
END:VTIMEZONE
END:VCALENDAR