BEGIN:VCALENDAR
VERSION:2.0
PRODID:-//wp-events-plugin.com//7.2.3.1//EN
TZID:Europe/Berlin
X-WR-TIMEZONE:Europe/Berlin
BEGIN:VEVENT
UID:1168@osterholz-bremen.de
DTSTART;TZID=Europe/Berlin:20260513T120000
DTEND;TZID=Europe/Berlin:20260513T120000
DTSTAMP:20260420T132137Z
URL:https://www.osterholz-bremen.de/veranstaltungen/spargelessen-im-cafe-a
 bseits/
SUMMARY:Spargelessen im Café Abseits
DESCRIPTION:[pdf-embedder url="https://www.osterholz-bremen.de/wp-content/u
 ploads/2026/04/Spargelessen-2026.pdf" title="Spargelessen 2026"]
CATEGORIES:Essen &amp; Trinken
LOCATION:Café Abseits\, Otto-Brenner-Allee 44\, 28325 Bremen\, Deutschland
X-APPLE-STRUCTURED-LOCATION;VALUE=URI;X-ADDRESS=Otto-Brenner-Allee 44\, 283
 25 Bremen\, Deutschland;X-APPLE-RADIUS=100;X-TITLE=Café Abseits:geo:0,0
END:VEVENT
BEGIN:VTIMEZONE
TZID:Europe/Berlin
X-LIC-LOCATION:Europe/Berlin
BEGIN:DAYLIGHT
DTSTART:20260329T030000
TZOFFSETFROM:+0100
TZOFFSETTO:+0200
TZNAME:CEST
END:DAYLIGHT
END:VTIMEZONE
END:VCALENDAR