BEGIN:VCALENDAR
VERSION:2.0
PRODID:-//wp-events-plugin.com//7.2.3.1//EN
TZID:Europe/Berlin
X-WR-TIMEZONE:Europe/Berlin
BEGIN:VEVENT
UID:793@osterholz-bremen.de
DTSTART;TZID=Europe/Berlin:20250620T140000
DTEND;TZID=Europe/Berlin:20250620T180000
DTSTAMP:20250528T125230Z
URL:https://www.osterholz-bremen.de/veranstaltungen/sommerfest/
SUMMARY:Sommerfest
DESCRIPTION:[pdf-embedder url="https://www.osterholz-bremen.de/wp-content/u
 ploads/2025/05/Sommerfest_2025.pdf"]
CATEGORIES:Kultur &amp; Freizeit
END:VEVENT
BEGIN:VTIMEZONE
TZID:Europe/Berlin
X-LIC-LOCATION:Europe/Berlin
BEGIN:DAYLIGHT
DTSTART:20250330T030000
TZOFFSETFROM:+0100
TZOFFSETTO:+0200
TZNAME:CEST
END:DAYLIGHT
END:VTIMEZONE
END:VCALENDAR