BEGIN:VCALENDAR
VERSION:2.0
PRODID:-//wp-events-plugin.com//7.2.3.1//EN
TZID:Europe/Berlin
X-WR-TIMEZONE:Europe/Berlin
BEGIN:VEVENT
UID:794@osterholz-bremen.de
DTSTART;TZID=Europe/Berlin:20250623T183000
DTEND;TZID=Europe/Berlin:20250623T203000
DTSTAMP:20250603T075627Z
URL:https://www.osterholz-bremen.de/veranstaltungen/sitzung-des-stadtteilb
 eirates-osterholz-8/
SUMMARY:Sitzung des Stadtteilbeirates Osterholz
DESCRIPTION:[pdf-embedder url="https://www.osterholz-bremen.de/wp-content/u
 ploads/2025/06/Einladung-Beirat-23.06.2025.pdf" title="Einladung\, Beirat\
 , 23.06.2025"]
CATEGORIES:Politik
LOCATION:Schweizer Foyer\, Marktplatz Osterholz 1\, 28325 Bremen\, Deutschl
 and
X-APPLE-STRUCTURED-LOCATION;VALUE=URI;X-ADDRESS=Marktplatz Osterholz 1\, 28
 325 Bremen\, Deutschland;X-APPLE-RADIUS=100;X-TITLE=Schweizer Foyer:geo:0,
 0
END:VEVENT
BEGIN:VTIMEZONE
TZID:Europe/Berlin
X-LIC-LOCATION:Europe/Berlin
BEGIN:DAYLIGHT
DTSTART:20250330T030000
TZOFFSETFROM:+0100
TZOFFSETTO:+0200
TZNAME:CEST
END:DAYLIGHT
END:VTIMEZONE
END:VCALENDAR