BEGIN:VCALENDAR
VERSION:2.0
PRODID:-//wp-events-plugin.com//7.2.3.1//EN
TZID:Europe/Berlin
X-WR-TIMEZONE:Europe/Berlin
BEGIN:VEVENT
UID:1173@osterholz-bremen.de
DTSTART;TZID=Europe/Berlin:20260529T190000
DTEND;TZID=Europe/Berlin:20260529T190000
DTSTAMP:20260424T080848Z
URL:https://www.osterholz-bremen.de/veranstaltungen/shake-rattle-roll/
SUMMARY:Shake\, Rattle & Roll
DESCRIPTION:zum musikalischen Ausklang des Nachbarschaftsfestes mit einem K
 onzert der Bremer Band Shake\, Rattle & Roll. 
CATEGORIES:Kultur &amp; Freizeit
LOCATION:Kultur Aula\, Ilse-Kaisen Str. 5\, 28327 Bremen\, Deutschland
X-APPLE-STRUCTURED-LOCATION;VALUE=URI;X-ADDRESS=Ilse-Kaisen Str. 5\, 28327 
 Bremen\, Deutschland;X-APPLE-RADIUS=100;X-TITLE=Kultur Aula:geo:0,0
END:VEVENT
BEGIN:VTIMEZONE
TZID:Europe/Berlin
X-LIC-LOCATION:Europe/Berlin
BEGIN:DAYLIGHT
DTSTART:20260329T030000
TZOFFSETFROM:+0100
TZOFFSETTO:+0200
TZNAME:CEST
END:DAYLIGHT
END:VTIMEZONE
END:VCALENDAR