BEGIN:VCALENDAR
VERSION:2.0
PRODID:-//wp-events-plugin.com//7.2.3.1//EN
TZID:Europe/Berlin
X-WR-TIMEZONE:Europe/Berlin
BEGIN:VEVENT
UID:996@osterholz-bremen.de
DTSTART;TZID=Europe/Berlin:20260127T160000
DTEND;TZID=Europe/Berlin:20260127T180000
DTSTAMP:20260115T165724Z
URL:https://www.osterholz-bremen.de/veranstaltungen/quartiersforumssitzung
 -schweizer-viertel-6/
SUMMARY:Quartiersforumssitzung Schweizer Viertel
DESCRIPTION:[pdf-embedder url="https://www.osterholz-bremen.de/wp-content/u
 ploads/2026/01/134.-Einladung-Quartiersforumssitzung-Schweizer-Viertel_27.
 1.2026.pdf" title="134. Einladung Quartiersforumssitzung Schweizer Viertel
 _27.1.2026"]
CATEGORIES:Leben &amp; Soziales
LOCATION:Café Schweizer Viertel\, Sankt-Gotthard-Straße 37\, 28325 Bremen
 \, Deutschland
X-APPLE-STRUCTURED-LOCATION;VALUE=URI;X-ADDRESS=Sankt-Gotthard-Straße 37\,
  28325 Bremen\, Deutschland;X-APPLE-RADIUS=100;X-TITLE=Café Schweizer Vie
 rtel:geo:0,0
END:VEVENT
BEGIN:VTIMEZONE
TZID:Europe/Berlin
X-LIC-LOCATION:Europe/Berlin
BEGIN:STANDARD
DTSTART:20251026T020000
TZOFFSETFROM:+0200
TZOFFSETTO:+0100
TZNAME:CET
END:STANDARD
END:VTIMEZONE
END:VCALENDAR