BEGIN:VCALENDAR
VERSION:2.0
PRODID:-//wp-events-plugin.com//7.2.3.1//EN
TZID:Europe/Berlin
X-WR-TIMEZONE:Europe/Berlin
BEGIN:VEVENT
UID:447@osterholz-bremen.de
DTSTART;TZID=Europe/Berlin:20250128T150000
DTEND;TZID=Europe/Berlin:20250128T163000
DTSTAMP:20250109T162328Z
URL:https://www.osterholz-bremen.de/veranstaltungen/offene-tuer-im-drk-kin
 derhaus-schweizer-foyer/
SUMMARY:Offene Tür im DRK Kinderhaus Schweizer Foyer
DESCRIPTION:[pdf-embedder url="https://www.osterholz-bremen.de/wp-content/u
 ploads/2025/01/Einladung-Tag-der-offenen-Tuer-Kinderhaus-Schweizer-Foyer.p
 df" title="Einladung Tag der offenen Tür Kinderhaus Schweizer Foyer"]
CATEGORIES:Leben &amp; Soziales
LOCATION:Schweizer Foyer\, Marktplatz Osterholz 1\, 28325 Bremen\, Deutschl
 and
X-APPLE-STRUCTURED-LOCATION;VALUE=URI;X-ADDRESS=Marktplatz Osterholz 1\, 28
 325 Bremen\, Deutschland;X-APPLE-RADIUS=100;X-TITLE=Schweizer Foyer:geo:0,
 0
END:VEVENT
BEGIN:VTIMEZONE
TZID:Europe/Berlin
X-LIC-LOCATION:Europe/Berlin
BEGIN:STANDARD
DTSTART:20241027T020000
TZOFFSETFROM:+0200
TZOFFSETTO:+0100
TZNAME:CET
END:STANDARD
END:VTIMEZONE
END:VCALENDAR