BEGIN:VCALENDAR
VERSION:2.0
PRODID:-//wp-events-plugin.com//7.2.3.1//EN
TZID:Europe/Berlin
X-WR-TIMEZONE:Europe/Berlin
BEGIN:VEVENT
UID:1170@osterholz-bremen.de
DTSTART;TZID=Europe/Berlin:20260504T000000
DTEND;TZID=Europe/Berlin:20260504T000000
DTSTAMP:20260420T133350Z
URL:https://www.osterholz-bremen.de/veranstaltungen/oeffentliche-ausschuss
 -sitzung-7/
SUMMARY:Öffentliche Ausschuss-Sitzung
DESCRIPTION:Ausschuss für frühkindliche und schulische Bildung 
CATEGORIES:Leben &amp; Soziales
LOCATION:Grundschule Düsseldorfer Straße\, Düsseldorfer Straße 2A\, 283
 27 Bremen\, Deutschland
X-APPLE-STRUCTURED-LOCATION;VALUE=URI;X-ADDRESS=Düsseldorfer Straße 2A\, 
 28327 Bremen\, Deutschland;X-APPLE-RADIUS=100;X-TITLE=Grundschule Düsseld
 orfer Straße:geo:0,0
END:VEVENT
BEGIN:VTIMEZONE
TZID:Europe/Berlin
X-LIC-LOCATION:Europe/Berlin
BEGIN:DAYLIGHT
DTSTART:20260329T030000
TZOFFSETFROM:+0100
TZOFFSETTO:+0200
TZNAME:CEST
END:DAYLIGHT
END:VTIMEZONE
END:VCALENDAR