BEGIN:VCALENDAR
VERSION:2.0
PRODID:-//wp-events-plugin.com//7.2.3.1//EN
TZID:Europe/Berlin
X-WR-TIMEZONE:Europe/Berlin
BEGIN:VEVENT
UID:1029@osterholz-bremen.de
DTSTART;TZID=Europe/Berlin:20260429T150000
DTEND;TZID=Europe/Berlin:20260429T180000
DTSTAMP:20260118T114404Z
URL:https://www.osterholz-bremen.de/veranstaltungen/naehmaschinentreff-202
 6-01-21-2026-01-28-2026-02-04-2026-02-11-2026-02-18-2026-02-25-2026-03-04-
 2026-03-11-2026-03-18-2026-03-25-2026-04-01-2026-04-08-2026-04-15-2026-04-
 22-2026-04-29/
SUMMARY:Martina's "Nähmaschinentreff"
DESCRIPTION:[pdf-embedder url="https://www.osterholz-bremen.de/wp-content/u
 ploads/2025/01/Martina-Naehmaschine.pdf" title="Martina Nähmaschine"]
CATEGORIES:Kultur &amp; Freizeit
LOCATION:Mehrgenerationenhaus\, Graubündener Straße 10\, 28325 Bremen\, D
 eutschland
X-APPLE-STRUCTURED-LOCATION;VALUE=URI;X-ADDRESS=Graubündener Straße 10\, 
 28325 Bremen\, Deutschland;X-APPLE-RADIUS=100;X-TITLE=Mehrgenerationenhaus
 :geo:0,0
END:VEVENT
BEGIN:VTIMEZONE
TZID:Europe/Berlin
X-LIC-LOCATION:Europe/Berlin
BEGIN:DAYLIGHT
DTSTART:20260329T030000
TZOFFSETFROM:+0100
TZOFFSETTO:+0200
TZNAME:CEST
END:DAYLIGHT
END:VTIMEZONE
END:VCALENDAR