BEGIN:VCALENDAR
VERSION:2.0
PRODID:-//wp-events-plugin.com//7.2.3.1//EN
TZID:Europe/Berlin
X-WR-TIMEZONE:Europe/Berlin
BEGIN:VEVENT
UID:1165@osterholz-bremen.de
DTSTART;TZID=Europe/Berlin:20260423T153000
DTEND;TZID=Europe/Berlin:20260423T163000
DTSTAMP:20260417T095139Z
URL:https://www.osterholz-bremen.de/veranstaltungen/medienkompetenz-kurs/
SUMMARY:Medienkompetenz-Kurs
DESCRIPTION:„Echt im Netz“: Teilnahme ab neun Jahre 
CATEGORIES:Leben &amp; Soziales
LOCATION:QBZ Quartiersbildungszentrum Blockdiek\, Düsseldorfer Str. 2A\, 2
 8325 Bremen\, Deutschland
X-APPLE-STRUCTURED-LOCATION;VALUE=URI;X-ADDRESS=Düsseldorfer Str. 2A\, 283
 25 Bremen\, Deutschland;X-APPLE-RADIUS=100;X-TITLE=QBZ Quartiersbildungsze
 ntrum Blockdiek:geo:0,0
END:VEVENT
BEGIN:VTIMEZONE
TZID:Europe/Berlin
X-LIC-LOCATION:Europe/Berlin
BEGIN:DAYLIGHT
DTSTART:20260329T030000
TZOFFSETFROM:+0100
TZOFFSETTO:+0200
TZNAME:CEST
END:DAYLIGHT
END:VTIMEZONE
END:VCALENDAR