BEGIN:VCALENDAR
VERSION:2.0
PRODID:-//wp-events-plugin.com//7.2.3.1//EN
TZID:Europe/Berlin
X-WR-TIMEZONE:Europe/Berlin
BEGIN:VEVENT
UID:1171@osterholz-bremen.de
DTSTART;TZID=Europe/Berlin:20260528T160000
DTEND;TZID=Europe/Berlin:20260528T190000
DTSTAMP:20260420T195625Z
URL:https://www.osterholz-bremen.de/veranstaltungen/mann-kann-erste-hilfe-
 kurs-fuer-maenner/
SUMMARY:"Mann kann" - Erste-Hilfe-Kurs für Männer
DESCRIPTION:Die Teilnahme ist kostenlos\, aber bitte anmelden.
CATEGORIES:Leben &amp; Soziales
LOCATION:Gesundheitswerkstatt Osterholz\, Pawel-Adamowicz-Str. 2 (3. OG/ Fa
 hrstuhl vorhanden)\, 28327 Bremen\, Deutschland
X-APPLE-STRUCTURED-LOCATION;VALUE=URI;X-ADDRESS=Pawel-Adamowicz-Str. 2 (3. 
 OG/ Fahrstuhl vorhanden)\, 28327 Bremen\, Deutschland;X-APPLE-RADIUS=100;X
 -TITLE=Gesundheitswerkstatt Osterholz:geo:0,0
END:VEVENT
BEGIN:VTIMEZONE
TZID:Europe/Berlin
X-LIC-LOCATION:Europe/Berlin
BEGIN:DAYLIGHT
DTSTART:20260329T030000
TZOFFSETFROM:+0100
TZOFFSETTO:+0200
TZNAME:CEST
END:DAYLIGHT
END:VTIMEZONE
END:VCALENDAR