BEGIN:VCALENDAR
VERSION:2.0
PRODID:-//wp-events-plugin.com//7.2.3.1//EN
TZID:Europe/Berlin
X-WR-TIMEZONE:Europe/Berlin
BEGIN:VEVENT
UID:388@osterholz-bremen.de
DTSTART;TZID=Europe/Berlin:20250507T090000
DTEND;TZID=Europe/Berlin:20250507T131500
DTSTAMP:20241217T085057Z
URL:https://www.osterholz-bremen.de/veranstaltungen/kurs-pflege-bei-kinder
 n-teil-1/
SUMMARY:Kurs "Pflege bei Kindern" Teil 1
DESCRIPTION:[pdf-embedder url="https://www.osterholz-bremen.de/wp-content/u
 ploads/2024/12/Pflege-bei-Kindern-07.-05.-14.-05.-2025.pdf" title="Pflege 
 bei Kindern 07. 05. - 14. 05. 2025"]
CATEGORIES:Leben &amp; Soziales
LOCATION:AMeB Begegnungsstätte\, Am Siek 43\, 28325 Bremen\, Deutschland
X-APPLE-STRUCTURED-LOCATION;VALUE=URI;X-ADDRESS=Am Siek 43\, 28325 Bremen\,
  Deutschland;X-APPLE-RADIUS=100;X-TITLE=AMeB Begegnungsstätte:geo:0,0
END:VEVENT
BEGIN:VTIMEZONE
TZID:Europe/Berlin
X-LIC-LOCATION:Europe/Berlin
BEGIN:DAYLIGHT
DTSTART:20250330T030000
TZOFFSETFROM:+0100
TZOFFSETTO:+0200
TZNAME:CEST
END:DAYLIGHT
END:VTIMEZONE
END:VCALENDAR