BEGIN:VCALENDAR
VERSION:2.0
PRODID:-//wp-events-plugin.com//7.2.3.1//EN
TZID:Europe/Berlin
X-WR-TIMEZONE:Europe/Berlin
BEGIN:VEVENT
UID:1167@osterholz-bremen.de
DTSTART;TZID=Europe/Berlin:20260424T110000
DTEND;TZID=Europe/Berlin:20260424T150000
DTSTAMP:20260420T131921Z
URL:https://www.osterholz-bremen.de/veranstaltungen/kultour-zum-rhododendr
 onpark/
SUMMARY:KulTour zum Rhododendronpark
DESCRIPTION:[pdf-embedder url="https://www.osterholz-bremen.de/wp-content/u
 ploads/2026/04/KulTouren-Rhododendronpark.pdf" title="KulTouren Rhododendr
 onpark"]
CATEGORIES:Kultur &amp; Freizeit
LOCATION:Treffpunkt ist an der Haltestelle Bürgermeister-Spitta-Allee\, \,
  Deutschland
X-APPLE-STRUCTURED-LOCATION;VALUE=URI;X-ADDRESS=\, Deutschland;X-APPLE-RADI
 US=100;X-TITLE=Treffpunkt ist an der Haltestelle Bürgermeister-Spitta-All
 ee:geo:0,0
END:VEVENT
BEGIN:VTIMEZONE
TZID:Europe/Berlin
X-LIC-LOCATION:Europe/Berlin
BEGIN:DAYLIGHT
DTSTART:20260329T030000
TZOFFSETFROM:+0100
TZOFFSETTO:+0200
TZNAME:CEST
END:DAYLIGHT
END:VTIMEZONE
END:VCALENDAR