BEGIN:VCALENDAR
VERSION:2.0
PRODID:-//wp-events-plugin.com//7.2.3.1//EN
TZID:Europe/Berlin
X-WR-TIMEZONE:Europe/Berlin
BEGIN:VEVENT
UID:1120@osterholz-bremen.de
DTSTART;TZID=Europe/Berlin:20260419T150000
DTEND;TZID=Europe/Berlin:20260419T150000
DTSTAMP:20260309T084149Z
URL:https://www.osterholz-bremen.de/veranstaltungen/kaffee-und-kuchen-mit-
 dem-duo-jo/
SUMMARY:Kaffee und Kuchen mit dem Duo "Jo"
DESCRIPTION:Eintrittspreis 10\,00 EUR (inkl. Kaffee und Kuchen). Tickets au
 ch vorab verfügbar.
CATEGORIES:Kultur &amp; Freizeit
LOCATION:Kultur Aula\, Ilse-Kaisen Str. 5\, 28327 Bremen\, Deutschland
X-APPLE-STRUCTURED-LOCATION;VALUE=URI;X-ADDRESS=Ilse-Kaisen Str. 5\, 28327 
 Bremen\, Deutschland;X-APPLE-RADIUS=100;X-TITLE=Kultur Aula:geo:0,0
END:VEVENT
BEGIN:VTIMEZONE
TZID:Europe/Berlin
X-LIC-LOCATION:Europe/Berlin
BEGIN:DAYLIGHT
DTSTART:20260329T030000
TZOFFSETFROM:+0100
TZOFFSETTO:+0200
TZNAME:CEST
END:DAYLIGHT
END:VTIMEZONE
END:VCALENDAR