BEGIN:VCALENDAR
VERSION:2.0
PRODID:-//wp-events-plugin.com//7.2.3.1//EN
TZID:Europe/Berlin
X-WR-TIMEZONE:Europe/Berlin
BEGIN:VEVENT
UID:994@osterholz-bremen.de
DTSTART;TZID=Europe/Berlin:20260126T150000
DTEND;TZID=Europe/Berlin:20260126T150000
DTSTAMP:20260115T164753Z
URL:https://www.osterholz-bremen.de/veranstaltungen/infoveranstaltung-inte
 rnetbetrug-und-enkeltricks-anmeldung-erforderlich/
SUMMARY:Infoveranstaltung  „Internetbetrug und Enkeltricks“ - Anmeldung
  erforderlich
DESCRIPTION:[pdf-embedder url="https://www.osterholz-bremen.de/wp-content/u
 ploads/2026/01/Infoveranstaltung-Internetbetrug-und-Enkeltricks.pdf" title
 ="Infoveranstaltung Internetbetrug und Enkeltricks"]
CATEGORIES:Leben &amp; Soziales
LOCATION:Mehrgenerationenhaus\, Graubündener Straße 10\, 28325 Bremen\, D
 eutschland
X-APPLE-STRUCTURED-LOCATION;VALUE=URI;X-ADDRESS=Graubündener Straße 10\, 
 28325 Bremen\, Deutschland;X-APPLE-RADIUS=100;X-TITLE=Mehrgenerationenhaus
 :geo:0,0
END:VEVENT
BEGIN:VTIMEZONE
TZID:Europe/Berlin
X-LIC-LOCATION:Europe/Berlin
BEGIN:STANDARD
DTSTART:20251026T020000
TZOFFSETFROM:+0200
TZOFFSETTO:+0100
TZNAME:CET
END:STANDARD
END:VTIMEZONE
END:VCALENDAR