BEGIN:VCALENDAR
VERSION:2.0
PRODID:-//wp-events-plugin.com//7.2.3.1//EN
TZID:Europe/Berlin
X-WR-TIMEZONE:Europe/Berlin
BEGIN:VEVENT
UID:797@osterholz-bremen.de
DTSTART;TZID=Europe/Berlin:20250630T173000
DTEND;TZID=Europe/Berlin:20250630T173000
DTSTAMP:20250604T135638Z
URL:https://www.osterholz-bremen.de/veranstaltungen/fachausschuss-sitzung-
 4/
SUMMARY:Fachausschuss-Sitzung
DESCRIPTION:Ausschusses für Kultur und Migration
CATEGORIES:Politik
END:VEVENT
BEGIN:VTIMEZONE
TZID:Europe/Berlin
X-LIC-LOCATION:Europe/Berlin
BEGIN:DAYLIGHT
DTSTART:20250330T030000
TZOFFSETFROM:+0100
TZOFFSETTO:+0200
TZNAME:CEST
END:DAYLIGHT
END:VTIMEZONE
END:VCALENDAR