BEGIN:VCALENDAR
VERSION:2.0
PRODID:-//wp-events-plugin.com//7.2.3.1//EN
TZID:Europe/Berlin
X-WR-TIMEZONE:Europe/Berlin
BEGIN:VEVENT
UID:737@osterholz-bremen.de
DTSTART;TZID=Europe/Berlin;VALUE=DATE:20250621
DTEND;TZID=Europe/Berlin;VALUE=DATE:20250622
DTSTAMP:20250325T104930Z
URL:https://www.osterholz-bremen.de/veranstaltungen/eroeffnungsfeier-ein-h
 aus-der-musik/
SUMMARY:Eröffnungsfeier "Ein Haus der Musik"
DESCRIPTION:[pdf-embedder url="https://www.osterholz-bremen.de/wp-content/u
 ploads/2025/03/Wir-haben-ein-Haus-der-Musik.pdf" title="Wir haben ein Haus
  der Musik"]
CATEGORIES:Kultur &amp; Freizeit
LOCATION:Haus der Musik\, Ilse-Kaisen-Str. 26\, 28327 Bremen\, Deutschland
X-APPLE-STRUCTURED-LOCATION;VALUE=URI;X-ADDRESS=Ilse-Kaisen-Str. 26\, 28327
  Bremen\, Deutschland;X-APPLE-RADIUS=100;X-TITLE=Haus der Musik:geo:0,0
END:VEVENT
BEGIN:VTIMEZONE
TZID:Europe/Berlin
X-LIC-LOCATION:Europe/Berlin
BEGIN:DAYLIGHT
DTSTART:20250330T030000
TZOFFSETFROM:+0100
TZOFFSETTO:+0200
TZNAME:CEST
END:DAYLIGHT
END:VTIMEZONE
END:VCALENDAR